BEGIN:VCALENDAR
VERSION:2.0
PRODID:-//San Bernardino Water - ECPv6.15.17//NONSGML v1.0//EN
CALSCALE:GREGORIAN
METHOD:PUBLISH
X-WR-CALNAME:San Bernardino Water
X-ORIGINAL-URL:https://www.sbvmwd.com
X-WR-CALDESC:Events for San Bernardino Water
REFRESH-INTERVAL;VALUE=DURATION:PT1H
X-Robots-Tag:noindex
X-PUBLISHED-TTL:PT1H
BEGIN:VTIMEZONE
TZID:America/Los_Angeles
BEGIN:DAYLIGHT
TZOFFSETFROM:-0800
TZOFFSETTO:-0700
TZNAME:PDT
DTSTART:20250309T100000
END:DAYLIGHT
BEGIN:STANDARD
TZOFFSETFROM:-0700
TZOFFSETTO:-0800
TZNAME:PST
DTSTART:20251102T090000
END:STANDARD
BEGIN:DAYLIGHT
TZOFFSETFROM:-0800
TZOFFSETTO:-0700
TZNAME:PDT
DTSTART:20260308T100000
END:DAYLIGHT
BEGIN:STANDARD
TZOFFSETFROM:-0700
TZOFFSETTO:-0800
TZNAME:PST
DTSTART:20261101T090000
END:STANDARD
BEGIN:DAYLIGHT
TZOFFSETFROM:-0800
TZOFFSETTO:-0700
TZNAME:PDT
DTSTART:20270314T100000
END:DAYLIGHT
BEGIN:STANDARD
TZOFFSETFROM:-0700
TZOFFSETTO:-0800
TZNAME:PST
DTSTART:20271107T090000
END:STANDARD
END:VTIMEZONE
BEGIN:VEVENT
DTSTART;TZID=America/Los_Angeles:20260407T140000
DTEND;TZID=America/Los_Angeles:20260407T150000
DTSTAMP:20260421T114112
CREATED:20260116T192330Z
LAST-MODIFIED:20260402T172928Z
UID:10000084-1775570400-1775574000@www.sbvmwd.com
SUMMARY:Regular Board Meeting
DESCRIPTION:Download the Agenda\nSBVMWD Regular Board Meeting 040726 \n  \nJoin on Zoom\nOnline: https://sbvmwd.zoom/us/j/83910934313 \nTelephone: (877) 853-5247 US Toll-free \nMeeting ID: 884 5249 4313 PASSCODE: 3802026
URL:https://www.sbvmwd.com/event/regular-board-meeting-7/
CATEGORIES:Regular Board Meeting
END:VEVENT
BEGIN:VEVENT
DTSTART;TZID=America/Los_Angeles:20260317T140000
DTEND;TZID=America/Los_Angeles:20260317T150000
DTSTAMP:20260421T114112
CREATED:20260116T192330Z
LAST-MODIFIED:20260311T183555Z
UID:10000089-1773756000-1773759600@www.sbvmwd.com
SUMMARY:Regular Board Meeting
DESCRIPTION:SBVMWD Regular Board Meeting 031726
URL:https://www.sbvmwd.com/event/regular-board-meeting-6/
CATEGORIES:Regular Board Meeting
END:VEVENT
BEGIN:VEVENT
DTSTART;TZID=America/Los_Angeles:20260303T140000
DTEND;TZID=America/Los_Angeles:20260303T150000
DTSTAMP:20260421T114112
CREATED:20260116T192324Z
LAST-MODIFIED:20260325T223935Z
UID:10000094-1772546400-1772550000@www.sbvmwd.com
SUMMARY:Regular Board Meeting
DESCRIPTION:SBVMWD Regular Board Meeting 030326
URL:https://www.sbvmwd.com/event/regular-board-meeting-5/
CATEGORIES:Regular Board Meeting
END:VEVENT
BEGIN:VEVENT
DTSTART;TZID=America/Los_Angeles:20260217T140000
DTEND;TZID=America/Los_Angeles:20260217T150000
DTSTAMP:20260421T114112
CREATED:20260116T192324Z
LAST-MODIFIED:20260116T194756Z
UID:10000097-1771336800-1771340400@www.sbvmwd.com
SUMMARY:Regular Board Meeting
DESCRIPTION:
URL:https://www.sbvmwd.com/event/regular-board-meeting-4/
CATEGORIES:Regular Board Meeting
END:VEVENT
BEGIN:VEVENT
DTSTART;TZID=America/Los_Angeles:20260203T140000
DTEND;TZID=America/Los_Angeles:20260203T150000
DTSTAMP:20260421T114112
CREATED:20260116T192324Z
LAST-MODIFIED:20260116T194809Z
UID:10000103-1770127200-1770130800@www.sbvmwd.com
SUMMARY:Regular Board Meeting
DESCRIPTION:
URL:https://www.sbvmwd.com/event/regular-board-meeting-3/
CATEGORIES:Regular Board Meeting
END:VEVENT
BEGIN:VEVENT
DTSTART;TZID=America/Los_Angeles:20260120T140000
DTEND;TZID=America/Los_Angeles:20260120T150000
DTSTAMP:20260421T114112
CREATED:20260116T192324Z
LAST-MODIFIED:20260116T194812Z
UID:10000105-1768917600-1768921200@www.sbvmwd.com
SUMMARY:Regular Board Meeting
DESCRIPTION:
URL:https://www.sbvmwd.com/event/regular-board-meeting-2/
CATEGORIES:Regular Board Meeting
END:VEVENT
BEGIN:VEVENT
DTSTART;TZID=America/Los_Angeles:20260106T140000
DTEND;TZID=America/Los_Angeles:20260106T150000
DTSTAMP:20260421T114112
CREATED:20260116T192324Z
LAST-MODIFIED:20260116T194826Z
UID:10000110-1767708000-1767711600@www.sbvmwd.com
SUMMARY:Regular Board Meeting
DESCRIPTION:
URL:https://www.sbvmwd.com/event/regular-board-meeting/
CATEGORIES:Regular Board Meeting
END:VEVENT
END:VCALENDAR