BEGIN:VCALENDAR
VERSION:2.0
PRODID:-//San Bernardino Water - ECPv6.15.17//NONSGML v1.0//EN
CALSCALE:GREGORIAN
METHOD:PUBLISH
X-WR-CALNAME:San Bernardino Water
X-ORIGINAL-URL:https://www.sbvmwd.com
X-WR-CALDESC:Events for San Bernardino Water
REFRESH-INTERVAL;VALUE=DURATION:PT1H
X-Robots-Tag:noindex
X-PUBLISHED-TTL:PT1H
BEGIN:VTIMEZONE
TZID:America/Los_Angeles
BEGIN:DAYLIGHT
TZOFFSETFROM:-0800
TZOFFSETTO:-0700
TZNAME:PDT
DTSTART:20250309T100000
END:DAYLIGHT
BEGIN:STANDARD
TZOFFSETFROM:-0700
TZOFFSETTO:-0800
TZNAME:PST
DTSTART:20251102T090000
END:STANDARD
BEGIN:DAYLIGHT
TZOFFSETFROM:-0800
TZOFFSETTO:-0700
TZNAME:PDT
DTSTART:20260308T100000
END:DAYLIGHT
BEGIN:STANDARD
TZOFFSETFROM:-0700
TZOFFSETTO:-0800
TZNAME:PST
DTSTART:20261101T090000
END:STANDARD
BEGIN:DAYLIGHT
TZOFFSETFROM:-0800
TZOFFSETTO:-0700
TZNAME:PDT
DTSTART:20270314T100000
END:DAYLIGHT
BEGIN:STANDARD
TZOFFSETFROM:-0700
TZOFFSETTO:-0800
TZNAME:PST
DTSTART:20271107T090000
END:STANDARD
END:VTIMEZONE
BEGIN:VEVENT
DTSTART;TZID=America/Los_Angeles:20260414T140000
DTEND;TZID=America/Los_Angeles:20260414T150000
DTSTAMP:20260421T113824
CREATED:20260116T192330Z
LAST-MODIFIED:20260414T203253Z
UID:10000082-1776175200-1776178800@www.sbvmwd.com
SUMMARY:Board Workshop – Resources/Engineering
DESCRIPTION:Download the Agenda\nSBVMWD Board of Directors Special Meeting – Resources_Engineering – 041426 \n  \nJoin on Zoom\nOnline: https://sbvmwd.zoom/us/j/8483266691 \nTelephone: (877) 853-5247 US Toll-free \nMeeting ID: 884 5249 4313 PASSCODE: 3802026
URL:https://www.sbvmwd.com/event/board-workshop-resources-engineering-4/
CATEGORIES:Resources and Engineering
END:VEVENT
BEGIN:VEVENT
DTSTART;TZID=America/Los_Angeles:20260310T140000
DTEND;TZID=America/Los_Angeles:20260310T150000
DTSTAMP:20260421T113824
CREATED:20260116T192330Z
LAST-MODIFIED:20260305T195817Z
UID:10000091-1773151200-1773154800@www.sbvmwd.com
SUMMARY:Board Workshop – Resources/Engineering - CANCELED
DESCRIPTION:NOTICE OF CANCELLATION BOD WORKSHOP_031026
URL:https://www.sbvmwd.com/event/board-workshop-resources-engineering-3/
CATEGORIES:Resources and Engineering
END:VEVENT
BEGIN:VEVENT
DTSTART;TZID=America/Los_Angeles:20260210T140000
DTEND;TZID=America/Los_Angeles:20260210T150000
DTSTAMP:20260421T113824
CREATED:20260116T192324Z
LAST-MODIFIED:20260116T194804Z
UID:10000100-1770732000-1770735600@www.sbvmwd.com
SUMMARY:Board Workshop – Resources/Engineering
DESCRIPTION:
URL:https://www.sbvmwd.com/event/board-workshop-resources-engineering-2/
CATEGORIES:Resources and Engineering
END:VEVENT
BEGIN:VEVENT
DTSTART;TZID=America/Los_Angeles:20260113T140000
DTEND;TZID=America/Los_Angeles:20260113T150000
DTSTAMP:20260421T113824
CREATED:20260116T192324Z
LAST-MODIFIED:20260116T194821Z
UID:10000108-1768312800-1768316400@www.sbvmwd.com
SUMMARY:Board Workshop – Resources/Engineering
DESCRIPTION:
URL:https://www.sbvmwd.com/event/board-workshop-resources-engineering/
CATEGORIES:Resources and Engineering
END:VEVENT
END:VCALENDAR