BEGIN:VCALENDAR
VERSION:2.0
PRODID:-//San Bernardino Water - ECPv6.15.17//NONSGML v1.0//EN
CALSCALE:GREGORIAN
METHOD:PUBLISH
X-ORIGINAL-URL:https://www.sbvmwd.com
X-WR-CALDESC:Events for San Bernardino Water
REFRESH-INTERVAL;VALUE=DURATION:PT1H
X-Robots-Tag:noindex
X-PUBLISHED-TTL:PT1H
BEGIN:VTIMEZONE
TZID:America/Los_Angeles
BEGIN:DAYLIGHT
TZOFFSETFROM:-0800
TZOFFSETTO:-0700
TZNAME:PDT
DTSTART:20250309T100000
END:DAYLIGHT
BEGIN:STANDARD
TZOFFSETFROM:-0700
TZOFFSETTO:-0800
TZNAME:PST
DTSTART:20251102T090000
END:STANDARD
BEGIN:DAYLIGHT
TZOFFSETFROM:-0800
TZOFFSETTO:-0700
TZNAME:PDT
DTSTART:20260308T100000
END:DAYLIGHT
BEGIN:STANDARD
TZOFFSETFROM:-0700
TZOFFSETTO:-0800
TZNAME:PST
DTSTART:20261101T090000
END:STANDARD
BEGIN:DAYLIGHT
TZOFFSETFROM:-0800
TZOFFSETTO:-0700
TZNAME:PDT
DTSTART:20270314T100000
END:DAYLIGHT
BEGIN:STANDARD
TZOFFSETFROM:-0700
TZOFFSETTO:-0800
TZNAME:PST
DTSTART:20271107T090000
END:STANDARD
BEGIN:DAYLIGHT
TZOFFSETFROM:-0800
TZOFFSETTO:-0700
TZNAME:PDT
DTSTART:20280312T100000
END:DAYLIGHT
BEGIN:STANDARD
TZOFFSETFROM:-0700
TZOFFSETTO:-0800
TZNAME:PST
DTSTART:20281105T090000
END:STANDARD
END:VTIMEZONE
BEGIN:VTIMEZONE
TZID:UTC
BEGIN:STANDARD
TZOFFSETFROM:+0000
TZOFFSETTO:+0000
TZNAME:UTC
DTSTART:20250101T000000
END:STANDARD
END:VTIMEZONE
BEGIN:VEVENT
DTSTART;TZID=America/Los_Angeles:20261001T140000
DTEND;TZID=America/Los_Angeles:20261001T150000
DTSTAMP:20260420T141738
CREATED:20260116T192343Z
LAST-MODIFIED:20260116T193854Z
UID:10000034-1790863200-1790866800@www.sbvmwd.com
SUMMARY:Board Workshop – Policy/Administration
DESCRIPTION:
URL:https://www.sbvmwd.com/event/board-workshop-policy-administration-9/
CATEGORIES:Policy and Adminstration
END:VEVENT
BEGIN:VEVENT
DTSTART;TZID=America/Los_Angeles:20261006T140000
DTEND;TZID=America/Los_Angeles:20261006T150000
DTSTAMP:20260420T141738
CREATED:20260116T192343Z
LAST-MODIFIED:20260116T193851Z
UID:10000033-1791295200-1791298800@www.sbvmwd.com
SUMMARY:Regular Board Meeting
DESCRIPTION:
URL:https://www.sbvmwd.com/event/regular-board-meeting-19/
CATEGORIES:Regular Board Meeting
END:VEVENT
BEGIN:VEVENT
DTSTART;TZID=America/Los_Angeles:20261007T083000
DTEND;TZID=America/Los_Angeles:20261007T093000
DTSTAMP:20260420T141738
CREATED:20260116T192343Z
LAST-MODIFIED:20260116T193849Z
UID:10000032-1791361800-1791365400@www.sbvmwd.com
SUMMARY:USAR WIFA
DESCRIPTION:
URL:https://www.sbvmwd.com/event/usar-wifa-18/
CATEGORIES:USAR WIFA Meeting
END:VEVENT
BEGIN:VEVENT
DTSTART;TZID=America/Los_Angeles:20261012T140000
DTEND;TZID=America/Los_Angeles:20261012T150000
DTSTAMP:20260420T141738
CREATED:20260116T192351Z
LAST-MODIFIED:20260116T193845Z
UID:10000031-1791813600-1791817200@www.sbvmwd.com
SUMMARY:Federal Holiday – Agency Closed
DESCRIPTION:
URL:https://www.sbvmwd.com/event/federal-holiday-agency-closed-7/
CATEGORIES:Federal Holiday
END:VEVENT
BEGIN:VEVENT
DTSTART;TZID=America/Los_Angeles:20261013T140000
DTEND;TZID=America/Los_Angeles:20261013T150000
DTSTAMP:20260420T141738
CREATED:20260116T192351Z
LAST-MODIFIED:20260116T193842Z
UID:10000030-1791900000-1791903600@www.sbvmwd.com
SUMMARY:Board Workshop – Resources/Engineering
DESCRIPTION:
URL:https://www.sbvmwd.com/event/board-workshop-resources-engineering-10/
CATEGORIES:Resources and Engineering
END:VEVENT
BEGIN:VEVENT
DTSTART;TZID=America/Los_Angeles:20261020T140000
DTEND;TZID=America/Los_Angeles:20261020T150000
DTSTAMP:20260420T141738
CREATED:20260116T192351Z
LAST-MODIFIED:20260116T193840Z
UID:10000028-1792504800-1792508400@www.sbvmwd.com
SUMMARY:Regular Board Meeting
DESCRIPTION:
URL:https://www.sbvmwd.com/event/regular-board-meeting-20/
CATEGORIES:Regular Board Meeting
END:VEVENT
BEGIN:VEVENT
DTSTART;TZID=America/Los_Angeles:20261021T083000
DTEND;TZID=America/Los_Angeles:20261021T093000
DTSTAMP:20260420T141738
CREATED:20260116T192351Z
LAST-MODIFIED:20260116T193838Z
UID:10000027-1792571400-1792575000@www.sbvmwd.com
SUMMARY:USAR WIFA
DESCRIPTION:
URL:https://www.sbvmwd.com/event/usar-wifa-19/
CATEGORIES:USAR WIFA Meeting
END:VEVENT
BEGIN:VEVENT
DTSTART;TZID=America/Los_Angeles:20261103T140000
DTEND;TZID=America/Los_Angeles:20261103T150000
DTSTAMP:20260420T141738
CREATED:20260116T192351Z
LAST-MODIFIED:20260116T193833Z
UID:10000026-1793714400-1793718000@www.sbvmwd.com
SUMMARY:Regular Board Meeting
DESCRIPTION:
URL:https://www.sbvmwd.com/event/regular-board-meeting-21/
CATEGORIES:Regular Board Meeting
END:VEVENT
BEGIN:VEVENT
DTSTART;TZID=America/Los_Angeles:20261104T083000
DTEND;TZID=America/Los_Angeles:20261104T093000
DTSTAMP:20260420T141738
CREATED:20260116T192351Z
LAST-MODIFIED:20260116T193831Z
UID:10000025-1793781000-1793784600@www.sbvmwd.com
SUMMARY:USAR WIFA
DESCRIPTION:
URL:https://www.sbvmwd.com/event/usar-wifa-20/
CATEGORIES:USAR WIFA Meeting
END:VEVENT
BEGIN:VEVENT
DTSTART;TZID=America/Los_Angeles:20261105T140000
DTEND;TZID=America/Los_Angeles:20261105T150000
DTSTAMP:20260420T141738
CREATED:20260116T192351Z
LAST-MODIFIED:20260116T193829Z
UID:10000024-1793887200-1793890800@www.sbvmwd.com
SUMMARY:Board Workshop – Policy/Administration
DESCRIPTION:
URL:https://www.sbvmwd.com/event/board-workshop-policy-administration-10/
CATEGORIES:Policy and Adminstration
END:VEVENT
BEGIN:VEVENT
DTSTART;TZID=America/Los_Angeles:20261110T140000
DTEND;TZID=America/Los_Angeles:20261110T150000
DTSTAMP:20260420T141738
CREATED:20260116T192351Z
LAST-MODIFIED:20260116T193827Z
UID:10000023-1794319200-1794322800@www.sbvmwd.com
SUMMARY:Board Workshop – Resources/Engineering
DESCRIPTION:
URL:https://www.sbvmwd.com/event/board-workshop-resources-engineering-11/
CATEGORIES:Resources and Engineering
END:VEVENT
BEGIN:VEVENT
DTSTART;TZID=America/Los_Angeles:20261111T070000
DTEND;TZID=America/Los_Angeles:20261111T170000
DTSTAMP:20260420T141738
CREATED:20260116T192351Z
LAST-MODIFIED:20260116T193735Z
UID:10000022-1794380400-1794416400@www.sbvmwd.com
SUMMARY:Federal Holiday – Agency Closed
DESCRIPTION:
URL:https://www.sbvmwd.com/event/federal-holiday-agency-closed-8/
CATEGORIES:Federal Holiday
END:VEVENT
BEGIN:VEVENT
DTSTART;TZID=America/Los_Angeles:20261117T140000
DTEND;TZID=America/Los_Angeles:20261117T150000
DTSTAMP:20260420T141738
CREATED:20260116T192351Z
LAST-MODIFIED:20260116T193733Z
UID:10000021-1794924000-1794927600@www.sbvmwd.com
SUMMARY:Regular Board Meeting
DESCRIPTION:
URL:https://www.sbvmwd.com/event/regular-board-meeting-22/
CATEGORIES:Regular Board Meeting
END:VEVENT
BEGIN:VEVENT
DTSTART;TZID=America/Los_Angeles:20261118T083000
DTEND;TZID=America/Los_Angeles:20261118T093000
DTSTAMP:20260420T141738
CREATED:20260116T192351Z
LAST-MODIFIED:20260116T193731Z
UID:10000020-1794990600-1794994200@www.sbvmwd.com
SUMMARY:USAR WIFA
DESCRIPTION:
URL:https://www.sbvmwd.com/event/usar-wifa-21/
CATEGORIES:USAR WIFA Meeting
END:VEVENT
BEGIN:VEVENT
DTSTART;TZID=America/Los_Angeles:20261126T140000
DTEND;TZID=America/Los_Angeles:20261126T150000
DTSTAMP:20260420T141738
CREATED:20260116T192351Z
LAST-MODIFIED:20260116T193726Z
UID:10000018-1795701600-1795705200@www.sbvmwd.com
SUMMARY:Federal Holiday – Agency Closed
DESCRIPTION:
URL:https://www.sbvmwd.com/event/federal-holiday-agency-closed-9/
CATEGORIES:Federal Holiday
END:VEVENT
BEGIN:VEVENT
DTSTART;TZID=America/Los_Angeles:20261201T140000
DTEND;TZID=America/Los_Angeles:20261201T150000
DTSTAMP:20260420T141738
CREATED:20260116T192351Z
LAST-MODIFIED:20260116T193726Z
UID:10000017-1796133600-1796137200@www.sbvmwd.com
SUMMARY:Regular Board Meeting
DESCRIPTION:
URL:https://www.sbvmwd.com/event/regular-board-meeting-23/
CATEGORIES:Regular Board Meeting
END:VEVENT
BEGIN:VEVENT
DTSTART;TZID=America/Los_Angeles:20261202T083000
DTEND;TZID=America/Los_Angeles:20261202T093000
DTSTAMP:20260420T141738
CREATED:20260116T192351Z
LAST-MODIFIED:20260116T193724Z
UID:10000016-1796200200-1796203800@www.sbvmwd.com
SUMMARY:USAR WIFA
DESCRIPTION:
URL:https://www.sbvmwd.com/event/usar-wifa-22/
CATEGORIES:USAR WIFA Meeting
END:VEVENT
BEGIN:VEVENT
DTSTART;TZID=America/Los_Angeles:20261203T140000
DTEND;TZID=America/Los_Angeles:20261203T150000
DTSTAMP:20260420T141738
CREATED:20260116T192351Z
LAST-MODIFIED:20260116T193723Z
UID:10000015-1796306400-1796310000@www.sbvmwd.com
SUMMARY:Board Workshop – Policy/Administration
DESCRIPTION:
URL:https://www.sbvmwd.com/event/board-workshop-policy-administration-11/
CATEGORIES:Policy and Adminstration
END:VEVENT
BEGIN:VEVENT
DTSTART;TZID=UTC:20261207T133000
DTEND;TZID=UTC:20261207T153000
DTSTAMP:20260420T141738
CREATED:20260415T164847Z
LAST-MODIFIED:20260415T164847Z
UID:10000115-1796650200-1796657400@www.sbvmwd.com
SUMMARY:BTAC
DESCRIPTION:
URL:https://www.sbvmwd.com/event/btac-2/
END:VEVENT
BEGIN:VEVENT
DTSTART;TZID=America/Los_Angeles:20261208T140000
DTEND;TZID=America/Los_Angeles:20261208T150000
DTSTAMP:20260420T141738
CREATED:20260116T192351Z
LAST-MODIFIED:20260116T193720Z
UID:10000014-1796738400-1796742000@www.sbvmwd.com
SUMMARY:Board Workshop – Resources/Engineering
DESCRIPTION:
URL:https://www.sbvmwd.com/event/board-workshop-resources-engineering-12/
CATEGORIES:Resources and Engineering
END:VEVENT
BEGIN:VEVENT
DTSTART;TZID=America/Los_Angeles:20261215T140000
DTEND;TZID=America/Los_Angeles:20261215T150000
DTSTAMP:20260420T141738
CREATED:20260116T192359Z
LAST-MODIFIED:20260116T193717Z
UID:10000012-1797343200-1797346800@www.sbvmwd.com
SUMMARY:Regular Board Meeting
DESCRIPTION:
URL:https://www.sbvmwd.com/event/regular-board-meeting-24/
CATEGORIES:Regular Board Meeting
END:VEVENT
BEGIN:VEVENT
DTSTART;TZID=America/Los_Angeles:20261216T083000
DTEND;TZID=America/Los_Angeles:20261216T093000
DTSTAMP:20260420T141738
CREATED:20260116T192359Z
LAST-MODIFIED:20260116T193715Z
UID:10000009-1797409800-1797413400@www.sbvmwd.com
SUMMARY:USAR WIFA
DESCRIPTION:
URL:https://www.sbvmwd.com/event/usar-wifa-23/
CATEGORIES:USAR WIFA Meeting
END:VEVENT
BEGIN:VEVENT
DTSTART;TZID=America/Los_Angeles:20261225T070000
DTEND;TZID=America/Los_Angeles:20270101T170000
DTSTAMP:20260420T141738
CREATED:20260116T192359Z
LAST-MODIFIED:20260116T193710Z
UID:10000010-1798182000-1798822800@www.sbvmwd.com
SUMMARY:Federal Holiday – Agency Closed
DESCRIPTION:
URL:https://www.sbvmwd.com/event/federal-holiday-agency-closed-10/
CATEGORIES:Federal Holiday
END:VEVENT
END:VCALENDAR