BEGIN:VCALENDAR
VERSION:2.0
PRODID:-//San Bernardino Water - ECPv6.15.17//NONSGML v1.0//EN
CALSCALE:GREGORIAN
METHOD:PUBLISH
X-ORIGINAL-URL:https://www.sbvmwd.com
X-WR-CALDESC:Events for San Bernardino Water
REFRESH-INTERVAL;VALUE=DURATION:PT1H
X-Robots-Tag:noindex
X-PUBLISHED-TTL:PT1H
BEGIN:VTIMEZONE
TZID:America/Los_Angeles
BEGIN:DAYLIGHT
TZOFFSETFROM:-0800
TZOFFSETTO:-0700
TZNAME:PDT
DTSTART:20250309T100000
END:DAYLIGHT
BEGIN:STANDARD
TZOFFSETFROM:-0700
TZOFFSETTO:-0800
TZNAME:PST
DTSTART:20251102T090000
END:STANDARD
BEGIN:DAYLIGHT
TZOFFSETFROM:-0800
TZOFFSETTO:-0700
TZNAME:PDT
DTSTART:20260308T100000
END:DAYLIGHT
BEGIN:STANDARD
TZOFFSETFROM:-0700
TZOFFSETTO:-0800
TZNAME:PST
DTSTART:20261101T090000
END:STANDARD
BEGIN:DAYLIGHT
TZOFFSETFROM:-0800
TZOFFSETTO:-0700
TZNAME:PDT
DTSTART:20270314T100000
END:DAYLIGHT
BEGIN:STANDARD
TZOFFSETFROM:-0700
TZOFFSETTO:-0800
TZNAME:PST
DTSTART:20271107T090000
END:STANDARD
END:VTIMEZONE
BEGIN:VTIMEZONE
TZID:UTC
BEGIN:STANDARD
TZOFFSETFROM:+0000
TZOFFSETTO:+0000
TZNAME:UTC
DTSTART:20250101T000000
END:STANDARD
END:VTIMEZONE
BEGIN:VEVENT
DTSTART;TZID=America/Los_Angeles:20260505T140000
DTEND;TZID=America/Los_Angeles:20260505T150000
DTSTAMP:20260421T101217
CREATED:20260116T192330Z
LAST-MODIFIED:20260116T194613Z
UID:10000078-1777989600-1777993200@www.sbvmwd.com
SUMMARY:Regular Board Meeting
DESCRIPTION:
URL:https://www.sbvmwd.com/event/regular-board-meeting-9/
CATEGORIES:Regular Board Meeting
END:VEVENT
BEGIN:VEVENT
DTSTART;TZID=America/Los_Angeles:20260506T083000
DTEND;TZID=America/Los_Angeles:20260506T093000
DTSTAMP:20260421T101217
CREATED:20260116T192330Z
LAST-MODIFIED:20260116T194610Z
UID:10000077-1778056200-1778059800@www.sbvmwd.com
SUMMARY:USAR WIFA
DESCRIPTION:
URL:https://www.sbvmwd.com/event/usar-wifa-8/
CATEGORIES:USAR WIFA Meeting
END:VEVENT
BEGIN:VEVENT
DTSTART;TZID=America/Los_Angeles:20260507T140000
DTEND;TZID=America/Los_Angeles:20260507T150000
DTSTAMP:20260421T101217
CREATED:20260116T192330Z
LAST-MODIFIED:20260116T194608Z
UID:10000076-1778162400-1778166000@www.sbvmwd.com
SUMMARY:Board Workshop – Policy/Administration
DESCRIPTION:
URL:https://www.sbvmwd.com/event/board-workshop-policy-administration-4/
CATEGORIES:Policy and Adminstration
END:VEVENT
BEGIN:VEVENT
DTSTART;TZID=America/Los_Angeles:20260512T140000
DTEND;TZID=America/Los_Angeles:20260512T150000
DTSTAMP:20260421T101217
CREATED:20260116T192330Z
LAST-MODIFIED:20260116T194607Z
UID:10000075-1778594400-1778598000@www.sbvmwd.com
SUMMARY:Board Workshop – Resources/Engineering
DESCRIPTION:
URL:https://www.sbvmwd.com/event/board-workshop-resources-engineering-5/
CATEGORIES:Resources and Engineering
END:VEVENT
BEGIN:VEVENT
DTSTART;TZID=UTC:20260516T080000
DTEND;TZID=UTC:20260516T140000
DTSTAMP:20260421T101217
CREATED:20260310T180828Z
LAST-MODIFIED:20260310T180828Z
UID:10000112-1778918400-1778940000@www.sbvmwd.com
SUMMARY:Trails Day
DESCRIPTION:Join us for Trails Day at Sunrise Ranch on Saturday\, May 16 from 8 a.m. – 2 p.m.! Enjoy a guided nature walk with our biologists or explore the trails at your own pace. Stay for food trucks\, info booths\, and a finisher medal while supplies last. Free and family-friendly—dogs welcome on leash!
URL:https://www.sbvmwd.com/event/trails-day/
LOCATION:Sunrise Ranch\, 34001-34003 Fish Hatchery Rd\, Highland\, CA\, United States
END:VEVENT
BEGIN:VEVENT
DTSTART;TZID=America/Los_Angeles:20260519T140000
DTEND;TZID=America/Los_Angeles:20260519T150000
DTSTAMP:20260421T101217
CREATED:20260116T192330Z
LAST-MODIFIED:20260116T194504Z
UID:10000073-1779199200-1779202800@www.sbvmwd.com
SUMMARY:Regular Board Meeting
DESCRIPTION:
URL:https://www.sbvmwd.com/event/regular-board-meeting-10/
CATEGORIES:Regular Board Meeting
END:VEVENT
BEGIN:VEVENT
DTSTART;TZID=America/Los_Angeles:20260520T083000
DTEND;TZID=America/Los_Angeles:20260520T093000
DTSTAMP:20260421T101217
CREATED:20260116T192330Z
LAST-MODIFIED:20260116T194501Z
UID:10000072-1779265800-1779269400@www.sbvmwd.com
SUMMARY:USAR WIFA
DESCRIPTION:
URL:https://www.sbvmwd.com/event/usar-wifa-9/
CATEGORIES:USAR WIFA Meeting
END:VEVENT
BEGIN:VEVENT
DTSTART;TZID=America/Los_Angeles:20260525T070000
DTEND;TZID=America/Los_Angeles:20260525T170000
DTSTAMP:20260421T101217
CREATED:20260116T192336Z
LAST-MODIFIED:20260116T194459Z
UID:10000071-1779692400-1779728400@www.sbvmwd.com
SUMMARY:Federal Holiday – Agency Closed
DESCRIPTION:
URL:https://www.sbvmwd.com/event/federal-holiday-agency-closed-3/
CATEGORIES:Federal Holiday
END:VEVENT
END:VCALENDAR